BEGIN:VCALENDAR
VERSION:2.0
PRODID:RGS Kalender//eisdorf.de
CALSCALE:GREGORIAN
METHOD:PUBLISH
BEGIN:VEVENT
UID:239997b48ff83d2820d4fc64d55b9657
SEQUENCE:0
SUMMARY:Vorstandssitzung
LOCATION:Gemeindebüro
CATEGORIES:DOLEWO
CLASS:PUBLIC
DTSTART:20260120T180000
DTEND:20260120T210000
DTSTAMP:20260425T165112Z
END:VEVENT
BEGIN:VEVENT
UID:354434daa2d157c41b33a65b4319450e
SEQUENCE:0
SUMMARY:MGV DoLeWo
LOCATION:Kutur-und Sportzentrum
CATEGORIES:DOLEWO
CLASS:PUBLIC
DTSTART;VALUE=DATE:20260301
DTEND;VALUE=DATE:20260302
DTSTAMP:20260425T165112Z
END:VEVENT
BEGIN:VEVENT
UID:2b59ff7a9dcbb4344eb84c58ab0ec81e
SEQUENCE:0
SUMMARY:Vorstandssitzung DoLeWo
LOCATION:Gemeindebüro
CATEGORIES:DOLEWO
CLASS:PUBLIC
DTSTART:20260326T180000
DTEND:20260326T210000
DTSTAMP:20260425T165112Z
END:VEVENT
BEGIN:VEVENT
UID:e7bd9b0eafcd2e4c7ce16a3fe6a9f3b3
SEQUENCE:0
SUMMARY:Dorf Flohmarkt
LOCATION:Eisdorf
CATEGORIES:DOLEWO
CLASS:PUBLIC
DTSTART;VALUE=DATE:20260426
DTEND;VALUE=DATE:20260427
DTSTAMP:20260425T165112Z
END:VEVENT
BEGIN:VEVENT
UID:f8034d26ca6929db8f1cf41e81a0c04a
SEQUENCE:0
SUMMARY:Getränke- und Speisenverkauf Dorfflohmarkt
LOCATION:vor und im Gemeindebüro und Zuwegung 
CATEGORIES:DOLEWO
CLASS:PUBLIC
DTSTART:20260426T100000
DTEND:20260426T200000
DTSTAMP:20260425T165112Z
END:VEVENT
BEGIN:VEVENT
UID:00c79f373346dcbee897c7c72a54c08a
SEQUENCE:0
SUMMARY:Dämmerschoppen DoLeWo
LOCATION:Mitteldorf Höhe Gemeindebüro
CATEGORIES:DOLEWO
CLASS:PUBLIC
DTSTART:20260604T180000
DTEND:20260604T220000
DTSTAMP:20260425T165112Z
END:VEVENT
BEGIN:VEVENT
UID:2968dae6847e1a6215a3aee5e9e57f7f
SEQUENCE:0
SUMMARY:Weinfest DoLeWo
LOCATION:DoLeWo-Scheune
CATEGORIES:DOLEWO
CLASS:PUBLIC
DTSTART:20260704T170000
DTEND:20260704T230000
DTSTAMP:20260425T165112Z
END:VEVENT
BEGIN:VEVENT
UID:29e32cb2593d97a8b78b7acb2e1164f5
SEQUENCE:0
SUMMARY:Dämmerschoppen DoLeWo
LOCATION:Uferstraße
CATEGORIES:DOLEWO
CLASS:PUBLIC
DTSTART:20260820T180000
DTEND:20260820T220000
DTSTAMP:20260425T165112Z
END:VEVENT
BEGIN:VEVENT
UID:fd8badbed6e73ac9c8d5dfd40aa3ec8c
SEQUENCE:0
SUMMARY:Flohmarkt DoLeWo
CATEGORIES:DOLEWO
CLASS:PUBLIC
DTSTART;VALUE=DATE:20260912
DTEND;VALUE=DATE:20260913
DTSTAMP:20260425T165112Z
END:VEVENT
BEGIN:VEVENT
UID:5d662eb3c1b2e9b87814b57ff92241c1
SEQUENCE:0
SUMMARY:Dämmerschoppen DoLeWo
LOCATION:Platz vor dem Kultur- und Sportzentrum
CATEGORIES:DOLEWO
CLASS:PUBLIC
DTSTART:20261008T180000
DTEND:20261008T220000
DTSTAMP:20260425T165112Z
END:VEVENT
BEGIN:VEVENT
UID:8d3e9f21bb2733eb59c778dfa77e9eba
SEQUENCE:0
SUMMARY:Grünkohlwanderung DoLeWo
CATEGORIES:DOLEWO
CLASS:PUBLIC
DTSTART;VALUE=DATE:20261114
DTEND;VALUE=DATE:20261115
DTSTAMP:20260425T165112Z
END:VEVENT
END:VCALENDAR
