BEGIN:VCALENDAR
VERSION:2.0
PRODID:RGS Kalender//eisdorf.de
CALSCALE:GREGORIAN
METHOD:PUBLISH
BEGIN:VEVENT
UID:001ef9999bcd561c8997ab1638f200ba
SEQUENCE:0
SUMMARY:JHV Mobiles Eisdorf
LOCATION:Kultur- und Sportzentrum
CATEGORIES:Mobiles Eisdorf
CLASS:PUBLIC
DTSTART:20260125T150000
DTEND:20260125T170000
DTSTAMP:20260420T043717Z
END:VEVENT
BEGIN:VEVENT
UID:ae82375ea03456d38ada57df0001b727
SEQUENCE:0
SUMMARY:Kaffeefahrt Mobiles Eisdorf
CATEGORIES:Mobiles Eisdorf
URL:https://mobiles.eisdorf.de/angebote/kaffeefahrten
CLASS:PUBLIC
DTSTART;VALUE=DATE:20260205
DTEND;VALUE=DATE:20260206
DTSTAMP:20260420T043717Z
END:VEVENT
BEGIN:VEVENT
UID:a708e0deffab22a2116949a2022a82b7
SEQUENCE:0
SUMMARY:Kaffeefahrt Mobiles Eisdorf
CATEGORIES:Mobiles Eisdorf
URL:https://mobiles.eisdorf.de/angebote/kaffeefahrten
CLASS:PUBLIC
DTSTART;VALUE=DATE:20260305
DTEND;VALUE=DATE:20260306
DTSTAMP:20260420T043717Z
END:VEVENT
BEGIN:VEVENT
UID:c901f726e799dc95a62ca07d98c49e16
SEQUENCE:0
SUMMARY:Kaffeefahrt Mobiles Eisdorf
CATEGORIES:Mobiles Eisdorf
URL:https://mobiles.eisdorf.de/angebote/kaffeefahrten
CLASS:PUBLIC
DTSTART;VALUE=DATE:20260402
DTEND;VALUE=DATE:20260403
DTSTAMP:20260420T043717Z
END:VEVENT
BEGIN:VEVENT
UID:3d7b6859c47e436a3d8077b95d3fc0a3
SEQUENCE:0
SUMMARY:Kaffeefahrt Mobiles Eisdorf
CATEGORIES:Mobiles Eisdorf
URL:https://mobiles.eisdorf.de/angebote/kaffeefahrten
CLASS:PUBLIC
DTSTART;VALUE=DATE:20260507
DTEND;VALUE=DATE:20260508
DTSTAMP:20260420T043717Z
END:VEVENT
BEGIN:VEVENT
UID:17645b14314d8d5d777772b347cf7b86
SEQUENCE:0
SUMMARY:Kaffeefahrt Mobiles Eisdorf
CATEGORIES:Mobiles Eisdorf
URL:https://mobiles.eisdorf.de/angebote/kaffeefahrten
CLASS:PUBLIC
DTSTART;VALUE=DATE:20260604
DTEND;VALUE=DATE:20260605
DTSTAMP:20260420T043717Z
END:VEVENT
BEGIN:VEVENT
UID:002d75412481525443f510359e405610
SEQUENCE:0
SUMMARY:Kaffeefahrt Mobiles Eisdorf
CATEGORIES:Mobiles Eisdorf
URL:https://mobiles.eisdorf.de/angebote/kaffeefahrten
CLASS:PUBLIC
DTSTART;VALUE=DATE:20260702
DTEND;VALUE=DATE:20260703
DTSTAMP:20260420T043717Z
END:VEVENT
END:VCALENDAR
