BEGIN:VCALENDAR
VERSION:2.0
PRODID:RGS Kalender//eisdorf.de
CALSCALE:GREGORIAN
METHOD:PUBLISH
BEGIN:VEVENT
UID:6aa222c3f8e566708009de27f36087e7
SEQUENCE:0
SUMMARY:JHV\, TSV Willensen
LOCATION:DGH Willensen
CATEGORIES:TSV Willensen
CLASS:PUBLIC
DTSTART;VALUE=DATE:20260206
DTEND;VALUE=DATE:20260207
DTSTAMP:20260425T141403Z
END:VEVENT
BEGIN:VEVENT
UID:d0e740b4f54fb29ca789fabb6ce10d22
SEQUENCE:0
SUMMARY:Neujahrsempfang
LOCATION:DGH Willensen
CATEGORIES:VzWWI
CLASS:PUBLIC
DTSTART;VALUE=DATE:20260208
DTEND;VALUE=DATE:20260209
DTSTAMP:20260425T141403Z
END:VEVENT
BEGIN:VEVENT
UID:1a088d36437297f3dae8b7e127b6b09a
SEQUENCE:0
SUMMARY:JHV\,  VzWWI
LOCATION:DGH Willensen
CATEGORIES:VzWWI
CLASS:PUBLIC
DTSTART:20260306T190000
DTSTAMP:20260425T141403Z
END:VEVENT
BEGIN:VEVENT
UID:648423a43c9d11da35bd9219bdc650e4
SEQUENCE:0
SUMMARY:Oktoberfest TSV Willensen und VzWWI Willensen
LOCATION:DGH Willensen
CATEGORIES:TSV Willensen
CLASS:PUBLIC
DTSTART;VALUE=DATE:20261003
DTEND;VALUE=DATE:20261004
DTSTAMP:20260425T141403Z
END:VEVENT
END:VCALENDAR
