BEGIN:VCALENDAR
VERSION:2.0
PRODID:RGS Kalender//eisdorf.de
CALSCALE:GREGORIAN
METHOD:PUBLISH
BEGIN:VEVENT
UID:83e67eef5eca270cd7f785b65aa709f2
SEQUENCE:0
SUMMARY:Privatveranstaltung
LOCATION:Kultur- und Sportzentrum
CATEGORIES:KuSZ Eisdorf
CLASS:PUBLIC
DTSTART;VALUE=DATE:20260110
DTEND;VALUE=DATE:20260111
DTSTAMP:20260420T154029Z
END:VEVENT
BEGIN:VEVENT
UID:1062f688da07297e9e6f9a0a72f8965c
SEQUENCE:0
SUMMARY:JHV Feuerwehr Eisdorf
LOCATION:Kultur- und Sportzentrum
CATEGORIES:KuSZ Eisdorf
CLASS:PUBLIC
DTSTART;VALUE=DATE:20260117
DTEND;VALUE=DATE:20260118
DTSTAMP:20260420T154029Z
END:VEVENT
BEGIN:VEVENT
UID:a8945a63a48cba121b1357d098771b00
SEQUENCE:0
SUMMARY:JHV Freiwillige Feuerwehr Eisdorf
LOCATION:Kultur- und Sportzentrum
CATEGORIES:FFW Eisdorf
CLASS:PUBLIC
DTSTART:20260117T170000
DTSTAMP:20260420T154029Z
END:VEVENT
BEGIN:VEVENT
UID:268fec66af8ad711ee17b2ec678705b0
SEQUENCE:0
SUMMARY:JHV Mobiles Eisdorf
LOCATION:Kultur- und Sportzentrum
CATEGORIES:KuSZ Eisdorf
CLASS:PUBLIC
DTSTART;VALUE=DATE:20260125
DTEND;VALUE=DATE:20260126
DTSTAMP:20260420T154029Z
END:VEVENT
BEGIN:VEVENT
UID:001ef9999bcd561c8997ab1638f200ba
SEQUENCE:0
SUMMARY:JHV Mobiles Eisdorf
LOCATION:Kultur- und Sportzentrum
CATEGORIES:Mobiles Eisdorf
CLASS:PUBLIC
DTSTART:20260125T150000
DTEND:20260125T170000
DTSTAMP:20260420T154029Z
END:VEVENT
BEGIN:VEVENT
UID:5c6702713691aef82f2c1a013bcf1146
SEQUENCE:0
SUMMARY:TSC Bürgerehrung
LOCATION:Kultur- und Sportzentrum
CATEGORIES:KuSZ Eisdorf
CLASS:PUBLIC
DTSTART;VALUE=DATE:20260201
DTEND;VALUE=DATE:20260202
DTSTAMP:20260420T154029Z
END:VEVENT
BEGIN:VEVENT
UID:88b0a2b6d5e3acfceaf8a6547bc2fe2a
SEQUENCE:0
SUMMARY:Privatveranstaltung
LOCATION:Kultur- und Sportzentrum
CATEGORIES:KuSZ Eisdorf
CLASS:PUBLIC
DTSTART;VALUE=DATE:20260207
DTEND;VALUE=DATE:20260208
DTSTAMP:20260420T154029Z
END:VEVENT
BEGIN:VEVENT
UID:57771821ebdefb999053b9aa9d4cb0c9
SEQUENCE:0
SUMMARY:TSC Kinderfasching
LOCATION:Kultur- und Sportzentrum
CATEGORIES:KuSZ Eisdorf
CLASS:PUBLIC
DTSTART;VALUE=DATE:20260213
DTEND;VALUE=DATE:20260214
DTSTAMP:20260420T154029Z
END:VEVENT
BEGIN:VEVENT
UID:94e253734f04578515e181a2653d9899
SEQUENCE:0
SUMMARY:TSC Mitgliederversammlung
LOCATION:Kultur- und Sportzentrum
CATEGORIES:KuSZ Eisdorf
CLASS:PUBLIC
DTSTART:20260227T180000
DTSTAMP:20260420T154029Z
END:VEVENT
BEGIN:VEVENT
UID:db92faf59d369d2e31bd30e6dc544e91
SEQUENCE:0
SUMMARY:Mitgliederversammlung 
LOCATION:Kultur- und Sportzentrum
CATEGORIES:TSC Eisdorf
CLASS:PUBLIC
DTSTART:20260227T190000
DTEND:20260227T210000
DTSTAMP:20260420T154029Z
END:VEVENT
BEGIN:VEVENT
UID:a218daf8ba15cc5a193766f4f7fde7cd
SEQUENCE:0
SUMMARY:JHV DoLeWo
LOCATION:Kultur- und Sportzentrum
CATEGORIES:KuSZ Eisdorf
CLASS:PUBLIC
DTSTART;VALUE=DATE:20260301
DTEND;VALUE=DATE:20260302
DTSTAMP:20260420T154029Z
END:VEVENT
BEGIN:VEVENT
UID:9686eda35fe2767756ee97c44b6e8890
SEQUENCE:0
SUMMARY:Gemeinde Bad Grund 
LOCATION:Kultur- und Sportzentrum
CATEGORIES:KuSZ Eisdorf
CLASS:PUBLIC
DTSTART;VALUE=DATE:20260307
DTEND;VALUE=DATE:20260308
DTSTAMP:20260420T154029Z
END:VEVENT
BEGIN:VEVENT
UID:e78d0fedd8bc24b017f3e1b633b28076
SEQUENCE:0
SUMMARY:TSC Übungsleitertreff
LOCATION:Kultur- und Sportzentrum
CATEGORIES:KuSZ Eisdorf
CLASS:PUBLIC
DTSTART;VALUE=DATE:20260314
DTEND;VALUE=DATE:20260315
DTSTAMP:20260420T154029Z
END:VEVENT
BEGIN:VEVENT
UID:0fc5e6e7c4411628bfcd6d647a4cdc32
SEQUENCE:0
SUMMARY:Frühjahrsbasar
LOCATION:Kultur- und Sportzentrum
CATEGORIES:Förderverein Kita
CLASS:PUBLIC
DTSTART;VALUE=DATE:20260315
DTEND;VALUE=DATE:20260316
DTSTAMP:20260420T154029Z
END:VEVENT
BEGIN:VEVENT
UID:c2b127a629b310bb3f2e576ac9a9c236
SEQUENCE:0
SUMMARY:DRK Blutspende
LOCATION:Kultur- und Sportzentrum
CATEGORIES:KuSZ Eisdorf
CLASS:PUBLIC
DTSTART;VALUE=DATE:20260324
DTEND;VALUE=DATE:20260325
DTSTAMP:20260420T154029Z
END:VEVENT
BEGIN:VEVENT
UID:e042cab150c4dba402dc383ce70d2416
SEQUENCE:0
SUMMARY:TSC 
LOCATION:Kultur- und Sportzentrum
CATEGORIES:KuSZ Eisdorf
CLASS:PUBLIC
DTSTART;VALUE=DATE:20260412
DTEND;VALUE=DATE:20260413
DTSTAMP:20260420T154029Z
END:VEVENT
BEGIN:VEVENT
UID:2c495b7b28a476990aa3b8f61c6e4cd4
SEQUENCE:0
SUMMARY:JHV Borntaler Schnapsdrosseln
LOCATION:Kultur- und Sportzentrum
CATEGORIES:KuSZ Eisdorf
CLASS:PUBLIC
DTSTART;VALUE=DATE:20260418
DTEND;VALUE=DATE:20260419
DTSTAMP:20260420T154029Z
END:VEVENT
BEGIN:VEVENT
UID:11f369a4cafd072d7a84616dfbd89eb3
SEQUENCE:0
SUMMARY:JHV Schnapsdrosseln
LOCATION:Kultur- und Sportzentrum
CATEGORIES:Schnapsdrosseln
CLASS:PUBLIC
DTSTART;VALUE=DATE:20260418
DTEND;VALUE=DATE:20260419
DTSTAMP:20260420T154029Z
END:VEVENT
BEGIN:VEVENT
UID:258ca741a24326ecd50bf119574aed06
SEQUENCE:0
SUMMARY:TSC
LOCATION:Kultur- und Sportzentrum
CATEGORIES:KuSZ Eisdorf
CLASS:PUBLIC
DTSTART;VALUE=DATE:20260425
DTEND;VALUE=DATE:20260426
DTSTAMP:20260420T154029Z
END:VEVENT
BEGIN:VEVENT
UID:b954c047953bb8cc24ca85aa9e961f31
SEQUENCE:0
SUMMARY:Privatveranstaltung
LOCATION:Kultur- und Sportzentrum
CATEGORIES:KuSZ Eisdorf
CLASS:PUBLIC
DTSTART;VALUE=DATE:20260502
DTEND;VALUE=DATE:20260503
DTSTAMP:20260420T154029Z
END:VEVENT
BEGIN:VEVENT
UID:a35462c16d56daa9c9d46ace00ea319e
SEQUENCE:0
SUMMARY:Privatveranstaltung
LOCATION:Kultur- und Sportzentrum
CATEGORIES:KuSZ Eisdorf
CLASS:PUBLIC
DTSTART;VALUE=DATE:20260509
DTEND;VALUE=DATE:20260510
DTSTAMP:20260420T154029Z
END:VEVENT
BEGIN:VEVENT
UID:b948d457dadaebd0b4651b2d854e96a1
SEQUENCE:0
SUMMARY:SFC - Harz Weser
LOCATION:Kultur- und Sportzentrum
CATEGORIES:KuSZ Eisdorf
CLASS:PUBLIC
DTSTART;VALUE=DATE:20260516
DTEND;VALUE=DATE:20260517
DTSTAMP:20260420T154029Z
END:VEVENT
BEGIN:VEVENT
UID:d445110d3e0eac669145969dcc57361d
SEQUENCE:0
SUMMARY:Privatveranstaltung
LOCATION:Kultur- und Sportzentrum
CATEGORIES:KuSZ Eisdorf
CLASS:PUBLIC
DTSTART;VALUE=DATE:20260725
DTEND;VALUE=DATE:20260726
DTSTAMP:20260420T154029Z
END:VEVENT
BEGIN:VEVENT
UID:01042e3106d88e0d01d66d1708d81d7d
SEQUENCE:0
SUMMARY:Einschulung GS Eisdorf 
LOCATION:Kultur- und Sportzentrum
CATEGORIES:KuSZ Eisdorf
CLASS:PUBLIC
DTSTART;VALUE=DATE:20260815
DTEND;VALUE=DATE:20260816
DTSTAMP:20260420T154029Z
END:VEVENT
BEGIN:VEVENT
UID:4baf02400fcc4f5f923f8b897cdb5947
SEQUENCE:0
SUMMARY:Privatveranstaltung
LOCATION:Kultur- und Sportzentrum
CATEGORIES:KuSZ Eisdorf
CLASS:PUBLIC
DTSTART;VALUE=DATE:20260905
DTEND;VALUE=DATE:20260906
DTSTAMP:20260420T154029Z
END:VEVENT
BEGIN:VEVENT
UID:1b4c98e871f19d47c78dcbdd7dd4bfc7
SEQUENCE:0
SUMMARY:Wahllokal Gemeinde Bad Grund 
LOCATION:Kultur- und Sportzentrum
CATEGORIES:KuSZ Eisdorf
CLASS:PUBLIC
DTSTART;VALUE=DATE:20260912
DTEND;VALUE=DATE:20260913
DTSTAMP:20260420T154029Z
END:VEVENT
BEGIN:VEVENT
UID:60a46c1b4a073a644ab4b4dbd19959db
SEQUENCE:0
SUMMARY:Privatveranstaltung
LOCATION:Kultur- und Sportzentrum
CATEGORIES:KuSZ Eisdorf
CLASS:PUBLIC
DTSTART;VALUE=DATE:20260926
DTEND;VALUE=DATE:20260927
DTSTAMP:20260420T154029Z
END:VEVENT
BEGIN:VEVENT
UID:64d8b7fa935fe8e6940020eb4c0e99b8
SEQUENCE:0
SUMMARY:Basar Kindergartenförderverein (Aufbau)
LOCATION:Kultur- und Sportzentrum
CATEGORIES:KuSZ Eisdorf
CLASS:PUBLIC
DTSTART;VALUE=DATE:20261003
DTEND;VALUE=DATE:20261004
DTSTAMP:20260420T154029Z
END:VEVENT
BEGIN:VEVENT
UID:364ed21d1e96d2a62c197bff000a59a8
SEQUENCE:0
SUMMARY:Herbstbasar
LOCATION:Kultur- und Sportzentrum
CATEGORIES:Förderverein Kita
CLASS:PUBLIC
DTSTART;VALUE=DATE:20261004
DTEND;VALUE=DATE:20261005
DTSTAMP:20260420T154029Z
END:VEVENT
BEGIN:VEVENT
UID:9d90ad8871b245b305bc48f647e60c5f
SEQUENCE:0
SUMMARY:Basar Kindergartenförderverein
LOCATION:Kultur- und Sportzentrum
CATEGORIES:KuSZ Eisdorf
CLASS:PUBLIC
DTSTART:20261004T140000
DTEND:20261004T160000
DTSTAMP:20260420T154029Z
END:VEVENT
BEGIN:VEVENT
UID:b3c5906880046e7f506c31fb0977baf1
SEQUENCE:0
SUMMARY:DRK Blutspende
LOCATION:Kultur- und Sportzentrum
CATEGORIES:KuSZ Eisdorf
CLASS:PUBLIC
DTSTART;VALUE=DATE:20261012
DTEND;VALUE=DATE:20261013
DTSTAMP:20260420T154029Z
END:VEVENT
BEGIN:VEVENT
UID:e878116d2febbf663c4bee9462e33c06
SEQUENCE:0
SUMMARY:Privatveranstaltung
LOCATION:Kultur- und Sportzentrum
CATEGORIES:KuSZ Eisdorf
CLASS:PUBLIC
DTSTART;VALUE=DATE:20261017
DTEND;VALUE=DATE:20261018
DTSTAMP:20260420T154029Z
END:VEVENT
BEGIN:VEVENT
UID:ed451a4131d23165b46ad792085da762
SEQUENCE:0
SUMMARY:Eisdorfer Nacht
LOCATION:Kultur- und Sportzentrum
CATEGORIES:Schüttenhoff
CLASS:PUBLIC
DTSTART;VALUE=DATE:20261024
DTEND;VALUE=DATE:20261025
DTSTAMP:20260420T154029Z
END:VEVENT
BEGIN:VEVENT
UID:49456a4362a483f13a7498dc6aa14fd7
SEQUENCE:0
SUMMARY:TSC Übungsleitertreff
LOCATION:Kultur- und Sportzentrum
CATEGORIES:KuSZ Eisdorf
CLASS:PUBLIC
DTSTART;VALUE=DATE:20261121
DTEND;VALUE=DATE:20261122
DTSTAMP:20260420T154029Z
END:VEVENT
BEGIN:VEVENT
UID:79078ad0364af6b93ce309c2521851cf
SEQUENCE:0
SUMMARY:Privatveranstaltung
LOCATION:Kultur- und Sportzentrum
CATEGORIES:KuSZ Eisdorf
CLASS:PUBLIC
DTSTART;VALUE=DATE:20261128
DTEND;VALUE=DATE:20261129
DTSTAMP:20260420T154029Z
END:VEVENT
BEGIN:VEVENT
UID:1f0a17e4087c30722b7de62dd65f2226
SEQUENCE:0
SUMMARY:Weihnachtsmarkt
LOCATION:Kultur- und Sportzentrum
CATEGORIES:Schnapsdrosseln
CLASS:PUBLIC
DTSTART;VALUE=DATE:20261205
DTEND;VALUE=DATE:20261206
DTSTAMP:20260420T154029Z
END:VEVENT
BEGIN:VEVENT
UID:d568fcb71257c56410f210ef18b61c9c
SEQUENCE:0
SUMMARY:Privatveranstaltung
LOCATION:Kultur- und Sportzentrum
CATEGORIES:KuSZ Eisdorf
CLASS:PUBLIC
DTSTART;VALUE=DATE:20261219
DTEND;VALUE=DATE:20261220
DTSTAMP:20260420T154029Z
END:VEVENT
BEGIN:VEVENT
UID:dd58c2fe719e8e1343fb0eabca513e64
SEQUENCE:0
SUMMARY:Privatveranstaltung
LOCATION:Kultur- und Sportzentrum
CATEGORIES:KuSZ Eisdorf
CLASS:PUBLIC
DTSTART;VALUE=DATE:20261225
DTEND;VALUE=DATE:20261226
DTSTAMP:20260420T154029Z
END:VEVENT
BEGIN:VEVENT
UID:d79b8d747dfeb79a198f49a021e9fb55
SEQUENCE:0
SUMMARY:Privatveranstaltung
LOCATION:Kultur- und Sportzentrum
CATEGORIES:KuSZ Eisdorf
CLASS:PUBLIC
DTSTART;VALUE=DATE:20261226
DTEND;VALUE=DATE:20261227
DTSTAMP:20260420T154029Z
END:VEVENT
END:VCALENDAR
