BEGIN:VCALENDAR
VERSION:2.0
PRODID:RGS Kalender//eisdorf.de
CALSCALE:GREGORIAN
METHOD:PUBLISH
BEGIN:VEVENT
UID:f48f0a42ffde832d5dad2151599f3c23
SEQUENCE:0
SUMMARY:Kaffeenachmittag
LOCATION:Kirchengemeindehaus
CATEGORIES:Ältere Generation
CLASS:PUBLIC
DTSTART:20260314T143000
DTEND:20260314T170000
DTSTAMP:20260420T220834Z
END:VEVENT
BEGIN:VEVENT
UID:7a82f8ee35443d3a447c6286c4da7ff6
SEQUENCE:0
SUMMARY:Mitgliederversammlung "Die Kirche bleibt im Dorf"
LOCATION:Kirchengemeindehaus
CATEGORIES:Kirche im Dorf
CLASS:PUBLIC
DTSTART:20260315T150000
DTEND:20260315T170000
DTSTAMP:20260420T220834Z
END:VEVENT
BEGIN:VEVENT
UID:3be01cba8d3330232fbc0821f8776b10
SEQUENCE:0
SUMMARY:Theateraufführung TG St. Georg Premiere
LOCATION:Kirchengemeindehaus
CATEGORIES:Kirche im Dorf
CLASS:PUBLIC
DTSTART:20260808T190000
DTEND:20260808T220000
DTSTAMP:20260420T220834Z
END:VEVENT
BEGIN:VEVENT
UID:5d8301b78ff1d3694a5d5fd53eaf131d
SEQUENCE:0
SUMMARY:Theateraufführung TG St. Georg
LOCATION:Kirchengemeindehaus
CATEGORIES:Kirche im Dorf
CLASS:PUBLIC
DTSTART:20260815T190000
DTEND:20260815T220000
DTSTAMP:20260420T220834Z
END:VEVENT
BEGIN:VEVENT
UID:6dac6988a6f9b8e2003ed195a030ddb2
SEQUENCE:0
SUMMARY:Theateraufführung TG St. Georg
LOCATION:Kirchengemeindehaus
CATEGORIES:Kirche im Dorf
CLASS:PUBLIC
DTSTART:20260822T190000
DTEND:20260822T220000
DTSTAMP:20260420T220834Z
END:VEVENT
BEGIN:VEVENT
UID:18af86670ed16b7c79dd98b4051fd2ac
SEQUENCE:0
SUMMARY:Theateraufführung TG St. Georg
LOCATION:Kirchengemeindehaus
CATEGORIES:Kirche im Dorf
CLASS:PUBLIC
DTSTART:20260828T200000
DTEND:20260828T230000
DTSTAMP:20260420T220834Z
END:VEVENT
BEGIN:VEVENT
UID:001bea922da45ea8dc92c5749479b5e2
SEQUENCE:0
SUMMARY:Theateraufführung TG St. Georg
LOCATION:Kirchengemeindehaus
CATEGORIES:Kirche im Dorf
CLASS:PUBLIC
DTSTART:20260829T190000
DTEND:20260829T220000
DTSTAMP:20260420T220834Z
END:VEVENT
BEGIN:VEVENT
UID:69fd59c55e082a1e391e1643e6191785
SEQUENCE:0
SUMMARY:Theateraufführung TG St. Georg
LOCATION:Kirchengemeindehaus
CATEGORIES:Kirche im Dorf
CLASS:PUBLIC
DTSTART:20260905T190000
DTEND:20260905T220000
DTSTAMP:20260420T220834Z
END:VEVENT
BEGIN:VEVENT
UID:bcc9851ef6b909858c11bdac7c6626b3
SEQUENCE:0
SUMMARY:Theateraufführung TG St. Georg
LOCATION:Kirchengemeindehaus
CATEGORIES:Kirche im Dorf
CLASS:PUBLIC
DTSTART:20260912T190000
DTEND:20260912T220000
DTSTAMP:20260420T220834Z
END:VEVENT
BEGIN:VEVENT
UID:dcac9cc68e95f3dc0b5f877f33b5ebfe
SEQUENCE:0
SUMMARY:Adventskaffee
LOCATION:Kirchengemeindehaus
CATEGORIES:Ältere Generation
CLASS:PUBLIC
DTSTART:20261128T143000
DTEND:20261128T170000
DTSTAMP:20260420T220834Z
END:VEVENT
END:VCALENDAR
