BEGIN:VCALENDAR
VERSION:2.0
PRODID:RGS Kalender//eisdorf.de
CALSCALE:GREGORIAN
METHOD:PUBLISH
BEGIN:VEVENT
UID:177304014b7c4b11d66fee61442e8fb2
SEQUENCE:0
SUMMARY:Stammtisch
LOCATION:Schützenhaus
CATEGORIES:SV Eisdorf
CLASS:PUBLIC
DTSTART:20260130T180000
DTEND:20260130T235500
DTSTAMP:20260420T154029Z
END:VEVENT
BEGIN:VEVENT
UID:c6bc4d61da6c6117b2973ea744341a3e
SEQUENCE:0
SUMMARY:Stammtisch
LOCATION:Schützenhaus
CATEGORIES:SV Eisdorf
CLASS:PUBLIC
DTSTART:20260227T180000
DTEND:20260227T235500
DTSTAMP:20260420T154029Z
END:VEVENT
BEGIN:VEVENT
UID:c2d22eeda11d11a9e34415e25534ad51
SEQUENCE:0
SUMMARY:Mitgliederversammlung Schützenverein
LOCATION:Schützenhaus
CATEGORIES:SV Eisdorf
CLASS:PUBLIC
DTSTART:20260307T180000
DTEND:20260307T200000
DTSTAMP:20260420T154029Z
END:VEVENT
BEGIN:VEVENT
UID:c6cc4e86b042555c2cacb82a3ec4d946
SEQUENCE:0
SUMMARY:JHV Forstgenossenschaft
LOCATION:Schützenhaus
CATEGORIES:Forst Eisdorf
CLASS:PUBLIC
DTSTART;VALUE=DATE:20260314
DTEND;VALUE=DATE:20260315
DTSTAMP:20260420T154029Z
END:VEVENT
BEGIN:VEVENT
UID:6294e41de14e5a034a457f46542c1814
SEQUENCE:0
SUMMARY:Stammtisch
LOCATION:Schützenhaus
CATEGORIES:SV Eisdorf
CLASS:PUBLIC
DTSTART:20260327T180000
DTEND:20260327T235500
DTSTAMP:20260420T154029Z
END:VEVENT
BEGIN:VEVENT
UID:c9457250725b936cae42866522bed41b
SEQUENCE:0
SUMMARY:Stammtisch
LOCATION:Schützenhaus
CATEGORIES:SV Eisdorf
CLASS:PUBLIC
DTSTART:20260424T180000
DTEND:20260424T235500
DTSTAMP:20260420T154029Z
END:VEVENT
BEGIN:VEVENT
UID:e8afc7a1f2b2616a6a984849919089a7
SEQUENCE:0
SUMMARY:Stammtisch
LOCATION:Schützenhaus
CATEGORIES:SV Eisdorf
CLASS:PUBLIC
DTSTART:20260529T180000
DTEND:20260529T235500
DTSTAMP:20260420T154029Z
END:VEVENT
BEGIN:VEVENT
UID:822e86db01d1459b10c378b4867f474f
SEQUENCE:0
SUMMARY:Preisschießen SV Eisdorf\, Tag 1
LOCATION:Schützenhaus
CATEGORIES:SV Eisdorf
CLASS:PUBLIC
DTSTART:20260616T170000
DTEND:20260616T210000
DTSTAMP:20260420T154029Z
END:VEVENT
BEGIN:VEVENT
UID:6d69d3e29deaf5832d57e70a555f99a6
SEQUENCE:0
SUMMARY:Preisschießen Schützenverein Eisdorf\, Tag 2
LOCATION:Schützenhaus
CATEGORIES:SV Eisdorf
CLASS:PUBLIC
DTSTART:20260618T170000
DTEND:20260618T210000
DTSTAMP:20260420T154029Z
END:VEVENT
BEGIN:VEVENT
UID:7a7c9217e480d2d773145548bcbe3de4
SEQUENCE:0
SUMMARY:Stammtisch
LOCATION:Schützenhaus
CATEGORIES:SV Eisdorf
CLASS:PUBLIC
DTSTART:20260626T180000
DTEND:20260626T235500
DTSTAMP:20260420T154029Z
END:VEVENT
BEGIN:VEVENT
UID:c908cabdf3291677fb1da6cf0253bec9
SEQUENCE:0
SUMMARY:Ferienpassaktion Nachtwanderung mit TSC
LOCATION:Schützenhaus
CATEGORIES:TSC Eisdorf
CLASS:PUBLIC
DTSTART:20260703T210000
DTEND:20260703T233000
DTSTAMP:20260420T154029Z
END:VEVENT
BEGIN:VEVENT
UID:4e51a68f7efa66a05df6fce48ca12985
SEQUENCE:0
SUMMARY:Stammtisch
LOCATION:Schützenhaus
CATEGORIES:SV Eisdorf
CLASS:PUBLIC
DTSTART:20260731T180000
DTEND:20260731T235500
DTSTAMP:20260420T154029Z
END:VEVENT
BEGIN:VEVENT
UID:97cc038721a7ce1f9ccd8c3a03fd501b
SEQUENCE:0
SUMMARY:Stammtisch
LOCATION:Schützenhaus
CATEGORIES:SV Eisdorf
CLASS:PUBLIC
DTSTART:20260828T180000
DTEND:20260828T235500
DTSTAMP:20260420T154029Z
END:VEVENT
BEGIN:VEVENT
UID:1d0cf314cb8280af10df215d817a4c20
SEQUENCE:0
SUMMARY:Königsabholen 2026 mit Umzug
LOCATION:Schützenhaus
CATEGORIES:SV Eisdorf
CLASS:PUBLIC
DTSTART:20260919T160000
DTEND:20260919T220000
DTSTAMP:20260420T154029Z
END:VEVENT
BEGIN:VEVENT
UID:6475702a60bca121105d5378421956a5
SEQUENCE:0
SUMMARY:Stammtisch
LOCATION:Schützenhaus
CATEGORIES:SV Eisdorf
CLASS:PUBLIC
DTSTART:20260925T180000
DTEND:20260925T235500
DTSTAMP:20260420T154029Z
END:VEVENT
BEGIN:VEVENT
UID:a448aedf179eff9ed9e44e0ed8deae47
SEQUENCE:0
SUMMARY:Mitgliederfeier anlässlich TSC Jubiläum
LOCATION:Schützenhaus
CATEGORIES:TSC Eisdorf
CLASS:PUBLIC
DTSTART:20261017T180000
DTEND:20261017T220000
DTSTAMP:20260420T154029Z
END:VEVENT
BEGIN:VEVENT
UID:af3c3bf505c373e8c4a77a93557c4e7e
SEQUENCE:0
SUMMARY:Stammtisch
LOCATION:Schützenhaus
CATEGORIES:SV Eisdorf
CLASS:PUBLIC
DTSTART:20261030T180000
DTEND:20261030T235500
DTSTAMP:20260420T154029Z
END:VEVENT
BEGIN:VEVENT
UID:1756a8e191d52022c8c21531a67c3115
SEQUENCE:0
SUMMARY:Stammtisch
LOCATION:Schützenhaus
CATEGORIES:SV Eisdorf
CLASS:PUBLIC
DTSTART:20261127T180000
DTEND:20261127T235500
DTSTAMP:20260420T154029Z
END:VEVENT
BEGIN:VEVENT
UID:6f18dbba533ec1e5975e046d8683d481
SEQUENCE:0
SUMMARY:Stammtisch
LOCATION:Schützenhaus
CATEGORIES:SV Eisdorf
CLASS:PUBLIC
DTSTART:20261218T180000
DTEND:20261218T235500
DTSTAMP:20260420T154029Z
END:VEVENT
END:VCALENDAR
