BEGIN:VCALENDAR
VERSION:2.0
PRODID:RGS Kalender//eisdorf.de
CALSCALE:GREGORIAN
METHOD:PUBLISH
BEGIN:VEVENT
UID:2968dae6847e1a6215a3aee5e9e57f7f
SEQUENCE:0
SUMMARY:Weinfest DoLeWo
LOCATION:DoLeWo-Scheune
CATEGORIES:DOLEWO
CLASS:PUBLIC
DTSTART:20260704T170000
DTEND:20260704T230000
DTSTAMP:20260425T141403Z
END:VEVENT
END:VCALENDAR
